BEGIN:VCALENDAR
VERSION:2.0
PRODID:-//LIVE IN THE {{DEPTHS}} - Portland - ECPv6.15.20//NONSGML v1.0//EN
CALSCALE:GREGORIAN
METHOD:PUBLISH
X-ORIGINAL-URL:https://liveinthedepths.com
X-WR-CALDESC:Events for LIVE IN THE {{DEPTHS}} - Portland
REFRESH-INTERVAL;VALUE=DURATION:PT1H
X-Robots-Tag:noindex
X-PUBLISHED-TTL:PT1H
BEGIN:VTIMEZONE
TZID:UTC
BEGIN:STANDARD
TZOFFSETFROM:+0000
TZOFFSETTO:+0000
TZNAME:UTC
DTSTART:20230101T000000
END:STANDARD
END:VTIMEZONE
BEGIN:VEVENT
DTSTART;TZID=UTC:20240104T190000
DTEND;TZID=UTC:20240104T230000
DTSTAMP:20260421T025903
CREATED:20250705T042555Z
LAST-MODIFIED:20250705T042555Z
UID:21724-1704394800-1704409200@liveinthedepths.com
SUMMARY:Live in the Depths 70
DESCRIPTION:Live in the Depths 70!!\nLive in the Depths is a live experimental music monthly that happens every 1st Thursday.. est 2016. Hardware showcases and stuff..\nthis month..\npulse_0xGreystarCasual DecayOgo (dj)Gangster Computer Godvisuals by Matthew Rempessound by gangster computer god21+5-10 bucks sliding scale NOTAFLOF
URL:https://liveinthedepths.com/event/live-in-the-depths-70/
LOCATION:The Mississippi Pizza Pub & Atlantis Lounge\, 3552 North Mississippi Avenue\, Portland\, OR\, 97227\, United States
CATEGORIES:Show
ATTACH;FMTTYPE=image/jpeg:https://liveinthedepths.com/wp-content/uploads/2025/07/487074466_4080444212281510_2607052694669729281_n.jpg
END:VEVENT
END:VCALENDAR