BEGIN:VCALENDAR
VERSION:2.0
PRODID:-//LIVE IN THE {{DEPTHS}} - Portland - ECPv6.15.20//NONSGML v1.0//EN
CALSCALE:GREGORIAN
METHOD:PUBLISH
X-ORIGINAL-URL:https://liveinthedepths.com
X-WR-CALDESC:Events for LIVE IN THE {{DEPTHS}} - Portland
REFRESH-INTERVAL;VALUE=DURATION:PT1H
X-Robots-Tag:noindex
X-PUBLISHED-TTL:PT1H
BEGIN:VTIMEZONE
TZID:UTC
BEGIN:STANDARD
TZOFFSETFROM:+0000
TZOFFSETTO:+0000
TZNAME:UTC
DTSTART:20220101T000000
END:STANDARD
END:VTIMEZONE
BEGIN:VEVENT
DTSTART;TZID=UTC:20231207T190000
DTEND;TZID=UTC:20231207T230000
DTSTAMP:20260421T044324
CREATED:20250705T042912Z
LAST-MODIFIED:20250705T042919Z
UID:21728-1701975600-1701990000@liveinthedepths.com
SUMMARY:Live in the Depths 69
DESCRIPTION:Live in the Depths is a live experimental music monthly that happens every 1st Thursday. Hardware showcases and stuff..\nthis month..\nSumnerEnzo CaselnovaCyclop Toad (ATX)MKULTRA aka Molly MinerAutonomic Pilot (dj)\nvisuals by Pineal Perceptions and Figment!\nsound by gangster computer god\n21+5-10 bucks sliding scale NOTAFLOFspaz.org
URL:https://liveinthedepths.com/event/live-in-the-depths-69/
LOCATION:The Mississippi Pizza Pub & Atlantis Lounge\, 3552 North Mississippi Avenue\, Portland\, OR\, 97227\, United States
CATEGORIES:Show
ATTACH;FMTTYPE=image/jpeg:https://liveinthedepths.com/wp-content/uploads/2025/07/487070711_4079027575756507_3346041746466479379_n.jpg
END:VEVENT
END:VCALENDAR