BEGIN:VCALENDAR
VERSION:2.0
PRODID:-//LIVE IN THE {{DEPTHS}} - Portland - ECPv6.15.20//NONSGML v1.0//EN
CALSCALE:GREGORIAN
METHOD:PUBLISH
X-ORIGINAL-URL:https://liveinthedepths.com
X-WR-CALDESC:Events for LIVE IN THE {{DEPTHS}} - Portland
REFRESH-INTERVAL;VALUE=DURATION:PT1H
X-Robots-Tag:noindex
X-PUBLISHED-TTL:PT1H
BEGIN:VTIMEZONE
TZID:UTC
BEGIN:STANDARD
TZOFFSETFROM:+0000
TZOFFSETTO:+0000
TZNAME:UTC
DTSTART:20220101T000000
END:STANDARD
END:VTIMEZONE
BEGIN:VEVENT
DTSTART;TZID=UTC:20231102T190000
DTEND;TZID=UTC:20231102T230000
DTSTAMP:20260421T062727
CREATED:20250705T043245Z
LAST-MODIFIED:20250705T043245Z
UID:21731-1698951600-1698966000@liveinthedepths.com
SUMMARY:Live in the Depths 68
DESCRIPTION:Live in the Depths 68\nD.VicesTrust Anchoronslaught ocelotscreechersArgonaute (dj)\nvisuals by Don Champion\nsound by Gangster Computer God\n5-10 bucks NOTAFLOF21+
URL:https://liveinthedepths.com/event/live-in-the-depths-68/
LOCATION:The Mississippi Pizza Pub & Atlantis Lounge\, 3552 North Mississippi Avenue\, Portland\, OR\, 97227\, United States
CATEGORIES:Show
ATTACH;FMTTYPE=image/jpeg:https://liveinthedepths.com/wp-content/uploads/2025/07/480687437_924389049890898_8218188617565406627_n.jpg
END:VEVENT
END:VCALENDAR