BEGIN:VCALENDAR
VERSION:2.0
PRODID:-//LIVE IN THE {{DEPTHS}} - Portland - ECPv6.15.20//NONSGML v1.0//EN
CALSCALE:GREGORIAN
METHOD:PUBLISH
X-ORIGINAL-URL:https://liveinthedepths.com
X-WR-CALDESC:Events for LIVE IN THE {{DEPTHS}} - Portland
REFRESH-INTERVAL;VALUE=DURATION:PT1H
X-Robots-Tag:noindex
X-PUBLISHED-TTL:PT1H
BEGIN:VTIMEZONE
TZID:UTC
BEGIN:STANDARD
TZOFFSETFROM:+0000
TZOFFSETTO:+0000
TZNAME:UTC
DTSTART:20220101T000000
END:STANDARD
END:VTIMEZONE
BEGIN:VEVENT
DTSTART;TZID=UTC:20230907T190000
DTEND;TZID=UTC:20230907T230000
DTSTAMP:20260421T094149
CREATED:20250907T215034Z
LAST-MODIFIED:20250907T215034Z
UID:21961-1694113200-1694127600@liveinthedepths.com
SUMMARY:Live in the Depths 66
DESCRIPTION:Live in the Depths 66\nEvery First Thursday for 7+ years running (minus pandemic)\nThe Red Water\nBadrich\nAhpook\nAK-B\nDon Champion (dj)\nOptik Zen (vis)
URL:https://liveinthedepths.com/event/live-in-the-depths-66/
LOCATION:OR
CATEGORIES:Show
ATTACH;FMTTYPE=image/webp:https://liveinthedepths.com/wp-content/uploads/2025/09/litd66.webp
END:VEVENT
END:VCALENDAR