BEGIN:VCALENDAR
VERSION:2.0
PRODID:-//LIVE IN THE {{DEPTHS}} - Portland - ECPv6.15.20//NONSGML v1.0//EN
CALSCALE:GREGORIAN
METHOD:PUBLISH
X-WR-CALNAME:LIVE IN THE {{DEPTHS}} - Portland
X-ORIGINAL-URL:https://liveinthedepths.com
X-WR-CALDESC:Events for LIVE IN THE {{DEPTHS}} - Portland
REFRESH-INTERVAL;VALUE=DURATION:PT1H
X-Robots-Tag:noindex
X-PUBLISHED-TTL:PT1H
BEGIN:VTIMEZONE
TZID:UTC
BEGIN:STANDARD
TZOFFSETFROM:+0000
TZOFFSETTO:+0000
TZNAME:UTC
DTSTART:20220101T000000
END:STANDARD
END:VTIMEZONE
BEGIN:VEVENT
DTSTART;TZID=UTC:20230803T190000
DTEND;TZID=UTC:20230803T230000
DTSTAMP:20260421T111713
CREATED:20250907T214751Z
LAST-MODIFIED:20250907T214751Z
UID:21958-1691089200-1691103600@liveinthedepths.com
SUMMARY:Live in the Depths 65
DESCRIPTION:Live in the Depths 65\nexperimental live a/v acts\noccurian\nblaix\nelectro-skronk classics\nkapala\ndj old man soup\n$5-10 notaflof\n21+ after 8 doors at 7
URL:https://liveinthedepths.com/event/live-in-the-depths-65/
LOCATION:OR
CATEGORIES:Show
ATTACH;FMTTYPE=image/webp:https://liveinthedepths.com/wp-content/uploads/2025/09/litd65.webp
END:VEVENT
END:VCALENDAR