BEGIN:VCALENDAR
VERSION:2.0
PRODID:-//LIVE IN THE {{DEPTHS}} - Portland - ECPv6.15.20//NONSGML v1.0//EN
CALSCALE:GREGORIAN
METHOD:PUBLISH
X-WR-CALNAME:LIVE IN THE {{DEPTHS}} - Portland
X-ORIGINAL-URL:https://liveinthedepths.com
X-WR-CALDESC:Events for LIVE IN THE {{DEPTHS}} - Portland
REFRESH-INTERVAL;VALUE=DURATION:PT1H
X-Robots-Tag:noindex
X-PUBLISHED-TTL:PT1H
BEGIN:VTIMEZONE
TZID:UTC
BEGIN:STANDARD
TZOFFSETFROM:+0000
TZOFFSETTO:+0000
TZNAME:UTC
DTSTART:20220101T000000
END:STANDARD
END:VTIMEZONE
BEGIN:VEVENT
DTSTART;TZID=UTC:20230601T190000
DTEND;TZID=UTC:20230601T230000
DTSTAMP:20260421T144818
CREATED:20250907T214528Z
LAST-MODIFIED:20250907T214528Z
UID:21952-1685646000-1685660400@liveinthedepths.com
SUMMARY:Live in the Depths 63
DESCRIPTION:Live in the Depths 63\nObsrvr (oly)\nDivinity\nRudement\nNathanael Hill\nSpednar (dj)\nMatthew Rempes (visuals)\n$5-10 sliding scale NOTAFLOF
URL:https://liveinthedepths.com/event/live-in-the-depths-63/
LOCATION:OR
CATEGORIES:Show
ATTACH;FMTTYPE=image/webp:https://liveinthedepths.com/wp-content/uploads/2025/09/LITD63.webp
END:VEVENT
END:VCALENDAR