BEGIN:VCALENDAR
VERSION:2.0
PRODID:-//LIVE IN THE {{DEPTHS}} - Portland - ECPv6.15.20//NONSGML v1.0//EN
CALSCALE:GREGORIAN
METHOD:PUBLISH
X-ORIGINAL-URL:https://liveinthedepths.com
X-WR-CALDESC:Events for LIVE IN THE {{DEPTHS}} - Portland
REFRESH-INTERVAL;VALUE=DURATION:PT1H
X-Robots-Tag:noindex
X-PUBLISHED-TTL:PT1H
BEGIN:VTIMEZONE
TZID:UTC
BEGIN:STANDARD
TZOFFSETFROM:+0000
TZOFFSETTO:+0000
TZNAME:UTC
DTSTART:20220101T000000
END:STANDARD
END:VTIMEZONE
BEGIN:VEVENT
DTSTART;TZID=UTC:20230406T190000
DTEND;TZID=UTC:20230406T230000
DTSTAMP:20260421T175936
CREATED:20250907T214303Z
LAST-MODIFIED:20250907T214303Z
UID:21946-1680807600-1680822000@liveinthedepths.com
SUMMARY:Live in the Depths 61
DESCRIPTION:Live in the Depths is an evening of live experimental electronic music. This month..\nbrother vs robot\ngreystar\nmusique mystique\nJames Staub\ndj ogo\nsound by gangster computer god\nspaz.org\n5-10 bucks no one turned away due to lack of funds
URL:https://liveinthedepths.com/event/live-in-the-depths-61/
LOCATION:OR
CATEGORIES:Show
ATTACH;FMTTYPE=image/webp:https://liveinthedepths.com/wp-content/uploads/2025/09/litd61.webp
END:VEVENT
END:VCALENDAR