BEGIN:VCALENDAR
VERSION:2.0
PRODID:-//LIVE IN THE {{DEPTHS}} - Portland - ECPv6.15.20//NONSGML v1.0//EN
CALSCALE:GREGORIAN
METHOD:PUBLISH
X-ORIGINAL-URL:https://liveinthedepths.com
X-WR-CALDESC:Events for LIVE IN THE {{DEPTHS}} - Portland
REFRESH-INTERVAL;VALUE=DURATION:PT1H
X-Robots-Tag:noindex
X-PUBLISHED-TTL:PT1H
BEGIN:VTIMEZONE
TZID:UTC
BEGIN:STANDARD
TZOFFSETFROM:+0000
TZOFFSETTO:+0000
TZNAME:UTC
DTSTART:20220101T000000
END:STANDARD
END:VTIMEZONE
BEGIN:VEVENT
DTSTART;TZID=UTC:20230202T190000
DTEND;TZID=UTC:20230202T230000
DTSTAMP:20260421T214055
CREATED:20250907T214042Z
LAST-MODIFIED:20250907T214042Z
UID:21940-1675364400-1675378800@liveinthedepths.com
SUMMARY:Live in the Depths 59
DESCRIPTION:Welcome to the year of the bunny!\nLive in the Depths is an evening of live experimental electronic music performances. Every 1st Thursday at Atlantis Lounge PDX.\nThis month…\nFonetick Lee\nLaRose\nSLTHR\nSean Hølt \nDj : Argonaute\nVis : tba\nSpaz.org\nSound by gangster computer god\n$5-7 sliding scale 21+
URL:https://liveinthedepths.com/event/live-in-the-depths-59/
LOCATION:OR
CATEGORIES:Show
ATTACH;FMTTYPE=image/webp:https://liveinthedepths.com/wp-content/uploads/2025/09/litd59.webp
END:VEVENT
END:VCALENDAR