BEGIN:VCALENDAR
VERSION:2.0
PRODID:-//LIVE IN THE {{DEPTHS}} - Portland - ECPv6.15.20//NONSGML v1.0//EN
CALSCALE:GREGORIAN
METHOD:PUBLISH
X-WR-CALNAME:LIVE IN THE {{DEPTHS}} - Portland
X-ORIGINAL-URL:https://liveinthedepths.com
X-WR-CALDESC:Events for LIVE IN THE {{DEPTHS}} - Portland
REFRESH-INTERVAL;VALUE=DURATION:PT1H
X-Robots-Tag:noindex
X-PUBLISHED-TTL:PT1H
BEGIN:VTIMEZONE
TZID:UTC
BEGIN:STANDARD
TZOFFSETFROM:+0000
TZOFFSETTO:+0000
TZNAME:UTC
DTSTART:20210101T000000
END:STANDARD
END:VTIMEZONE
BEGIN:VEVENT
DTSTART;TZID=UTC:20221103T190000
DTEND;TZID=UTC:20221103T230000
DTSTAMP:20260422T030116
CREATED:20250907T213615Z
LAST-MODIFIED:20250907T213615Z
UID:21930-1667502000-1667516400@liveinthedepths.com
SUMMARY:Live in the Depths 56
DESCRIPTION:Live in the Depths 56\nLive experimental electronic music showcases!!\nBrother vs Robot\nGreystar\nGimmick\nProqxis\nMaybe one more\nVisuals by reed\nSound by Gangster Computer God\nSpaz.org
URL:https://liveinthedepths.com/event/live-in-the-depths-56/
LOCATION:OR
CATEGORIES:Show
ATTACH;FMTTYPE=image/webp:https://liveinthedepths.com/wp-content/uploads/2025/09/litd56.webp
END:VEVENT
BEGIN:VEVENT
DTSTART;TZID=UTC:20221103T190000
DTEND;TZID=UTC:20221103T230000
DTSTAMP:20260422T030116
CREATED:20250907T213718Z
LAST-MODIFIED:20250907T213718Z
UID:21934-1667502000-1667516400@liveinthedepths.com
SUMMARY:Live in the Depths 57
DESCRIPTION:Live in the Depths is a monthly every 1st Thursday that showcases live experimental electronic music performances. We close out the 2023 year with a packed lineup!\nSLTHR\nhoist1138\nSean Hølt\njesiah\ndj Saltfeend (vinyl techno set)\nmore TBA\nvisuals by Reed\nsound by Gangster Computer God\nspaz.org
URL:https://liveinthedepths.com/event/live-in-the-depths-57/
LOCATION:OR
CATEGORIES:Show
ATTACH;FMTTYPE=image/webp:https://liveinthedepths.com/wp-content/uploads/2025/09/litd57.webp
END:VEVENT
END:VCALENDAR