BEGIN:VCALENDAR
VERSION:2.0
PRODID:-//LIVE IN THE {{DEPTHS}} - Portland - ECPv6.15.20//NONSGML v1.0//EN
CALSCALE:GREGORIAN
METHOD:PUBLISH
X-WR-CALNAME:LIVE IN THE {{DEPTHS}} - Portland
X-ORIGINAL-URL:https://liveinthedepths.com
X-WR-CALDESC:Events for LIVE IN THE {{DEPTHS}} - Portland
REFRESH-INTERVAL;VALUE=DURATION:PT1H
X-Robots-Tag:noindex
X-PUBLISHED-TTL:PT1H
BEGIN:VTIMEZONE
TZID:UTC
BEGIN:STANDARD
TZOFFSETFROM:+0000
TZOFFSETTO:+0000
TZNAME:UTC
DTSTART:20210101T000000
END:STANDARD
END:VTIMEZONE
BEGIN:VEVENT
DTSTART;TZID=UTC:20221006T190000
DTEND;TZID=UTC:20221006T230000
DTSTAMP:20260422T044057
CREATED:20250907T213509Z
LAST-MODIFIED:20250907T213509Z
UID:21927-1665082800-1665097200@liveinthedepths.com
SUMMARY:Live in the Depths 55
DESCRIPTION:We 55!! Is it time for a screening? Live in the Depths is an evening of live experimental electronic music performances. Every 1st Thursday at Atlantis Lounge PDX. This month…\nProduction Unit Xero\nGovlink\nSun Tunnel\nThe Bachs of Dirt\nDj : the Student\nVis : Reed\nSpaz.org\nSound by gangster computer god
URL:https://liveinthedepths.com/event/live-in-the-depths-55/
LOCATION:OR
CATEGORIES:Show
ATTACH;FMTTYPE=image/webp:https://liveinthedepths.com/wp-content/uploads/2025/09/litd55.webp
END:VEVENT
END:VCALENDAR