BEGIN:VCALENDAR
VERSION:2.0
PRODID:-//LIVE IN THE {{DEPTHS}} - Portland - ECPv6.15.20//NONSGML v1.0//EN
CALSCALE:GREGORIAN
METHOD:PUBLISH
X-WR-CALNAME:LIVE IN THE {{DEPTHS}} - Portland
X-ORIGINAL-URL:https://liveinthedepths.com
X-WR-CALDESC:Events for LIVE IN THE {{DEPTHS}} - Portland
REFRESH-INTERVAL;VALUE=DURATION:PT1H
X-Robots-Tag:noindex
X-PUBLISHED-TTL:PT1H
BEGIN:VTIMEZONE
TZID:UTC
BEGIN:STANDARD
TZOFFSETFROM:+0000
TZOFFSETTO:+0000
TZNAME:UTC
DTSTART:20210101T000000
END:STANDARD
END:VTIMEZONE
BEGIN:VEVENT
DTSTART;TZID=UTC:20220804T190000
DTEND;TZID=UTC:20220804T230000
DTSTAMP:20260422T083217
CREATED:20250907T213152Z
LAST-MODIFIED:20250907T213152Z
UID:21920-1659639600-1659654000@liveinthedepths.com
SUMMARY:Live in the Depths 53
DESCRIPTION:Live in the Depths is an evening of live experimental electronic music performances. Always 1st Thursdays at Atlantis Lounge in Portland\, OR…\nLineup….\nDJ 0.000001 (No Cal)Robert Downey Dangerfield (Eugene)occurianOtolithiaproqxisVis.. Borky Borky Experience Light\nDerek Johnson was a huge supporter of this evening of music. We dedicate this event to the love and light that Derek brought to all of us.\nNo one turned away for lack of funds.\nspaz.org
URL:https://liveinthedepths.com/event/live-in-the-depths-53/
LOCATION:OR
CATEGORIES:Show
ATTACH;FMTTYPE=image/webp:https://liveinthedepths.com/wp-content/uploads/2025/09/litd53.webp
END:VEVENT
END:VCALENDAR