BEGIN:VCALENDAR
VERSION:2.0
PRODID:-//LIVE IN THE {{DEPTHS}} - Portland - ECPv6.15.20//NONSGML v1.0//EN
CALSCALE:GREGORIAN
METHOD:PUBLISH
X-WR-CALNAME:LIVE IN THE {{DEPTHS}} - Portland
X-ORIGINAL-URL:https://liveinthedepths.com
X-WR-CALDESC:Events for LIVE IN THE {{DEPTHS}} - Portland
REFRESH-INTERVAL;VALUE=DURATION:PT1H
X-Robots-Tag:noindex
X-PUBLISHED-TTL:PT1H
BEGIN:VTIMEZONE
TZID:UTC
BEGIN:STANDARD
TZOFFSETFROM:+0000
TZOFFSETTO:+0000
TZNAME:UTC
DTSTART:20210101T000000
END:STANDARD
END:VTIMEZONE
BEGIN:VEVENT
DTSTART;TZID=UTC:20220602T190000
DTEND;TZID=UTC:20220602T230000
DTSTAMP:20260422T114000
CREATED:20250907T212826Z
LAST-MODIFIED:20250907T212826Z
UID:21914-1654196400-1654210800@liveinthedepths.com
SUMMARY:Live in the Depths 51
DESCRIPTION:Live in the Depths is an evening of live experimental electronic music performances. Always 1st Thursdays at Atlantis Lounge in Portland\, OR. Lineup…\nnoyouyesmeralph bartonxokeTrebouxia\nDj host.. meta.phunkVis.. reedSound… gangstercomputergod
URL:https://liveinthedepths.com/event/live-in-the-depths-51/
LOCATION:OR
CATEGORIES:Show
ATTACH;FMTTYPE=image/jpeg:https://liveinthedepths.com/wp-content/uploads/2025/09/482242263_2591111514416003_3159333973022275785_n.jpg
END:VEVENT
END:VCALENDAR