BEGIN:VCALENDAR
VERSION:2.0
PRODID:-//LIVE IN THE {{DEPTHS}} - Portland - ECPv6.15.20//NONSGML v1.0//EN
CALSCALE:GREGORIAN
METHOD:PUBLISH
X-WR-CALNAME:LIVE IN THE {{DEPTHS}} - Portland
X-ORIGINAL-URL:https://liveinthedepths.com
X-WR-CALDESC:Events for LIVE IN THE {{DEPTHS}} - Portland
REFRESH-INTERVAL;VALUE=DURATION:PT1H
X-Robots-Tag:noindex
X-PUBLISHED-TTL:PT1H
BEGIN:VTIMEZONE
TZID:UTC
BEGIN:STANDARD
TZOFFSETFROM:+0000
TZOFFSETTO:+0000
TZNAME:UTC
DTSTART:20200101T000000
END:STANDARD
END:VTIMEZONE
BEGIN:VEVENT
DTSTART;TZID=UTC:20211202T190000
DTEND;TZID=UTC:20211202T230000
DTSTAMP:20260422T213416
CREATED:20250907T212634Z
LAST-MODIFIED:20250907T212634Z
UID:21911-1638471600-1638486000@liveinthedepths.com
SUMMARY:Live in the Depths 48
DESCRIPTION:Live in the Depths is an evening of live experimental electronic music that happens every first Thursday at Atlantis Lounge PDX. This month….\nTrust Anchor\nhttps://soundcloud.com/trustanchor \nObsrvr (oly)\nhttps://dimentia.bandcamp.com/album/conduits \nhydroplane (sacramento)\nhttps://nebleena.bandcamp.com/album/rockets \nlambent\nhttps://open.spotify.com/artist/6dNPF5r1DLmqUY3IjL1tTL \ndj : SoupEnvelope (vinyl set)\nvisuals : reed\nsound : gangster computer god\n$5 / Vaxx required / +21
URL:https://liveinthedepths.com/event/live-in-the-depths-48/
LOCATION:The Mississippi Pizza Pub & Atlantis Lounge\, 3552 North Mississippi Avenue\, Portland\, OR\, 97227\, United States
CATEGORIES:Show
ATTACH;FMTTYPE=image/jpeg:https://liveinthedepths.com/wp-content/uploads/2025/09/475602478_2566364543557367_5208436017501590042_n.jpg
END:VEVENT
END:VCALENDAR