BEGIN:VCALENDAR
VERSION:2.0
PRODID:-//LIVE IN THE {{DEPTHS}} - Portland - ECPv6.15.20//NONSGML v1.0//EN
CALSCALE:GREGORIAN
METHOD:PUBLISH
X-WR-CALNAME:LIVE IN THE {{DEPTHS}} - Portland
X-ORIGINAL-URL:https://liveinthedepths.com
X-WR-CALDESC:Events for LIVE IN THE {{DEPTHS}} - Portland
REFRESH-INTERVAL;VALUE=DURATION:PT1H
X-Robots-Tag:noindex
X-PUBLISHED-TTL:PT1H
BEGIN:VTIMEZONE
TZID:UTC
BEGIN:STANDARD
TZOFFSETFROM:+0000
TZOFFSETTO:+0000
TZNAME:UTC
DTSTART:20200101T000000
END:STANDARD
END:VTIMEZONE
BEGIN:VEVENT
DTSTART;TZID=UTC:20211104T190000
DTEND;TZID=UTC:20211104T230000
DTSTAMP:20260422T231626
CREATED:20250907T212153Z
LAST-MODIFIED:20250925T004208Z
UID:21908-1636052400-1636066800@liveinthedepths.com
SUMMARY:Live in the Depths 47
DESCRIPTION:Live in the Depths is an evening of live experimental electronic music. It happens every 1st Thursday…\nThis month….\nbrother vs robot\nonslaught ocelot\nCasual Decay\nSumner\ndj drop a cat on the equipment\nvis : reed\nspaz.org\n$5\nVaxx pass REQUIRED! No exceptions!! Mask must be worn indoors unless you are eating or drinking.
URL:https://liveinthedepths.com/event/live-in-the-depths-47/
LOCATION:The Mississippi Pizza Pub & Atlantis Lounge\, 3552 North Mississippi Avenue\, Portland\, OR\, 97227\, United States
CATEGORIES:Show
ATTACH;FMTTYPE=image/jpeg:https://liveinthedepths.com/wp-content/uploads/2025/09/474583370_2561063334087488_2229330743778735495_n.jpg
END:VEVENT
END:VCALENDAR