BEGIN:VCALENDAR
VERSION:2.0
PRODID:-//LIVE IN THE {{DEPTHS}} - Portland - ECPv6.15.20//NONSGML v1.0//EN
CALSCALE:GREGORIAN
METHOD:PUBLISH
X-ORIGINAL-URL:https://liveinthedepths.com
X-WR-CALDESC:Events for LIVE IN THE {{DEPTHS}} - Portland
REFRESH-INTERVAL;VALUE=DURATION:PT1H
X-Robots-Tag:noindex
X-PUBLISHED-TTL:PT1H
BEGIN:VTIMEZONE
TZID:UTC
BEGIN:STANDARD
TZOFFSETFROM:+0000
TZOFFSETTO:+0000
TZNAME:UTC
DTSTART:20200101T000000
END:STANDARD
END:VTIMEZONE
BEGIN:VEVENT
DTSTART;TZID=UTC:20211007T190000
DTEND;TZID=UTC:20211007T230000
DTSTAMP:20260423T005722
CREATED:20250907T211939Z
LAST-MODIFIED:20250907T212057Z
UID:21905-1633633200-1633647600@liveinthedepths.com
SUMMARY:Live in the Depths 46
DESCRIPTION:Live in the Depths is an evening of live experimental electronic music. It happens every 1st Thursday… when there isn’t a full blown pandemic.\nThis month….\nDUX\nhttps://soundcloud.com/itsduxmusic \nBadrich\nhttps://badrich.bandcamp.com/ \nVelum\nPsychoTropika\nhttps://psychotropika.bandcamp.com \ndj baseMetal\nmixcloud.com/DJ_baseMetal \nvis : reed\nspaz.org\n$5\nVaxx pass REQUIRED! No exceptions!! Mask must be worn indoors unless you are eating or drinking.
URL:https://liveinthedepths.com/event/live-in-the-depths-46/
LOCATION:The Mississippi Pizza Pub & Atlantis Lounge\, 3552 North Mississippi Avenue\, Portland\, OR\, 97227\, United States
CATEGORIES:Show
ATTACH;FMTTYPE=image/jpeg:https://liveinthedepths.com/wp-content/uploads/2025/09/473725610_2557498877777267_244653607356599728_n.jpg
END:VEVENT
END:VCALENDAR