BEGIN:VCALENDAR
VERSION:2.0
PRODID:-//LIVE IN THE {{DEPTHS}} - Portland - ECPv6.15.20//NONSGML v1.0//EN
CALSCALE:GREGORIAN
METHOD:PUBLISH
X-ORIGINAL-URL:https://liveinthedepths.com
X-WR-CALDESC:Events for LIVE IN THE {{DEPTHS}} - Portland
REFRESH-INTERVAL;VALUE=DURATION:PT1H
X-Robots-Tag:noindex
X-PUBLISHED-TTL:PT1H
BEGIN:VTIMEZONE
TZID:UTC
BEGIN:STANDARD
TZOFFSETFROM:+0000
TZOFFSETTO:+0000
TZNAME:UTC
DTSTART:20200101T000000
END:STANDARD
END:VTIMEZONE
BEGIN:VEVENT
DTSTART;TZID=UTC:20210701T190000
DTEND;TZID=UTC:20210701T230000
DTSTAMP:20260423T061058
CREATED:20250907T211430Z
LAST-MODIFIED:20250907T211430Z
UID:21898-1625166000-1625180400@liveinthedepths.com
SUMMARY:Live in the Depths 44
DESCRIPTION:Live in the Depths is an evening of live experimental electronic music. It happens every 1st Thursday…\nthe lineup…\nProduction Unit Xero\nNoyouyesme\njesiah\n???\ndj : proqxis\nvisuals by reed\nmust be vaccinated to attend.\n+21 / $5\nspaz.org
URL:https://liveinthedepths.com/event/live-in-the-depths-44/
LOCATION:The Mississippi Pizza Pub & Atlantis Lounge\, 3552 North Mississippi Avenue\, Portland\, OR\, 97227\, United States
CATEGORIES:Show
ATTACH;FMTTYPE=image/jpeg:https://liveinthedepths.com/wp-content/uploads/2025/09/200795343_1598418253685339_1656839502297780903_n.jpg
END:VEVENT
END:VCALENDAR