BEGIN:VCALENDAR
VERSION:2.0
PRODID:-//LIVE IN THE {{DEPTHS}} - Portland - ECPv6.15.20//NONSGML v1.0//EN
CALSCALE:GREGORIAN
METHOD:PUBLISH
X-WR-CALNAME:LIVE IN THE {{DEPTHS}} - Portland
X-ORIGINAL-URL:https://liveinthedepths.com
X-WR-CALDESC:Events for LIVE IN THE {{DEPTHS}} - Portland
REFRESH-INTERVAL;VALUE=DURATION:PT1H
X-Robots-Tag:noindex
X-PUBLISHED-TTL:PT1H
BEGIN:VTIMEZONE
TZID:UTC
BEGIN:STANDARD
TZOFFSETFROM:+0000
TZOFFSETTO:+0000
TZNAME:UTC
DTSTART:20190101T000000
END:STANDARD
END:VTIMEZONE
BEGIN:VEVENT
DTSTART;TZID=UTC:20200206T190000
DTEND;TZID=UTC:20200206T230000
DTSTAMP:20260424T111124
CREATED:20250907T211107Z
LAST-MODIFIED:20250925T000617Z
UID:21892-1581015600-1581030000@liveinthedepths.com
SUMMARY:Live in the Depths 42
DESCRIPTION:Live in the Depths is an evening of live experimental electronic music. It happens every 1st Thursday.\nThis month…\nthe live… \nNathan Derr\nhttps://nathanderr.bandcamp.com/ \nTh3_Wi7ard\nhttps://instagram.com/th3_wi7ard \nBadrich\nhttps://badrich.bandcamp.com/ \nDj host : Murry\nhttps://soundcloud.com/djmtm \nVisuals : Reed\n$3/+21/doors and music @ 8pm \n  \n 
URL:https://liveinthedepths.com/event/live-in-the-depths-42/
LOCATION:The Mississippi Pizza Pub & Atlantis Lounge\, 3552 North Mississippi Avenue\, Portland\, OR\, 97227\, United States
CATEGORIES:Show
ATTACH;FMTTYPE=image/jpeg:https://liveinthedepths.com/wp-content/uploads/2025/09/83928742_1218772491649919_3396646161300324352_n.jpg
END:VEVENT
END:VCALENDAR