BEGIN:VCALENDAR
VERSION:2.0
PRODID:-//LIVE IN THE {{DEPTHS}} - Portland - ECPv6.15.20//NONSGML v1.0//EN
CALSCALE:GREGORIAN
METHOD:PUBLISH
X-ORIGINAL-URL:https://liveinthedepths.com
X-WR-CALDESC:Events for LIVE IN THE {{DEPTHS}} - Portland
REFRESH-INTERVAL;VALUE=DURATION:PT1H
X-Robots-Tag:noindex
X-PUBLISHED-TTL:PT1H
BEGIN:VTIMEZONE
TZID:UTC
BEGIN:STANDARD
TZOFFSETFROM:+0000
TZOFFSETTO:+0000
TZNAME:UTC
DTSTART:20190101T000000
END:STANDARD
END:VTIMEZONE
BEGIN:VEVENT
DTSTART;TZID=UTC:20200102T190000
DTEND;TZID=UTC:20200102T230000
DTSTAMP:20260424T124617
CREATED:20250907T210013Z
LAST-MODIFIED:20250907T210349Z
UID:21886-1577991600-1578006000@liveinthedepths.com
SUMMARY:Live in the Depths 41
DESCRIPTION:Live in the Depths is an evening of live experimental music. It happens every 1st Thursday. This is our FREE 2020 new year hangover edition so come on out and support local live weirdness!! We have some LIVE psyTRANCE and other psychedelic experiential live acts going down this month w/ \nBioChronic (live psy)\nhttps://soundcloud.com/biochronicpsy \nOccuriann\nThick Frisson (live hardware duo) \nCrab Shack Stereo \ndj host : Proqxis\nhttps://soundcloud.com/proqxis \nvisuals : reed\n+21 / music starts at 8pm / donations accepted\nspaz.org
URL:https://liveinthedepths.com/event/live-in-the-depths-41/
LOCATION:The Mississippi Pizza Pub & Atlantis Lounge\, 3552 North Mississippi Avenue\, Portland\, OR\, 97227\, United States
CATEGORIES:Show
ATTACH;FMTTYPE=image/jpeg:https://liveinthedepths.com/wp-content/uploads/2025/09/81027963_1182743725252796_879175433214492672_n.jpg
END:VEVENT
END:VCALENDAR