BEGIN:VCALENDAR
VERSION:2.0
PRODID:-//LIVE IN THE {{DEPTHS}} - Portland - ECPv6.15.20//NONSGML v1.0//EN
CALSCALE:GREGORIAN
METHOD:PUBLISH
X-WR-CALNAME:LIVE IN THE {{DEPTHS}} - Portland
X-ORIGINAL-URL:https://liveinthedepths.com
X-WR-CALDESC:Events for LIVE IN THE {{DEPTHS}} - Portland
REFRESH-INTERVAL;VALUE=DURATION:PT1H
X-Robots-Tag:noindex
X-PUBLISHED-TTL:PT1H
BEGIN:VTIMEZONE
TZID:UTC
BEGIN:STANDARD
TZOFFSETFROM:+0000
TZOFFSETTO:+0000
TZNAME:UTC
DTSTART:20180101T000000
END:STANDARD
END:VTIMEZONE
BEGIN:VEVENT
DTSTART;TZID=UTC:20191205T190000
DTEND;TZID=UTC:20191205T230000
DTSTAMP:20260424T142917
CREATED:20250907T205826Z
LAST-MODIFIED:20250907T210319Z
UID:21882-1575572400-1575586800@liveinthedepths.com
SUMMARY:Live in the Depths 40
DESCRIPTION:Live in the Depths is an evening of live experimental electronic music. This month we have…. \nAvola\nhttps://avola.bandcamp.com/ \nproximal/distal\nhttps://soundcloud.com/prxmldstl \nHydroplane (bay area)\nhttps://soundcloud.com/hydroplane \nEric Schlappi\nhttps://ericschlappi.bandcamp.com/ \nDj host : Jesse Sugar Moore\nVisuals : Reed\nSpaz.org\nDoors and music at 8pm to midnight. Only $5\, no one turned away for lack of funds. All door money goes directly to the performers.
URL:https://liveinthedepths.com/event/live-in-the-depths-40/
LOCATION:The Mississippi Pizza Pub & Atlantis Lounge\, 3552 North Mississippi Avenue\, Portland\, OR\, 97227\, United States
CATEGORIES:Show
ATTACH;FMTTYPE=image/jpeg:https://liveinthedepths.com/wp-content/uploads/2025/09/77324483_1151148011745701_4741357381810651136_n.jpg
END:VEVENT
END:VCALENDAR