BEGIN:VCALENDAR
VERSION:2.0
PRODID:-//LIVE IN THE {{DEPTHS}} - Portland - ECPv6.15.20//NONSGML v1.0//EN
CALSCALE:GREGORIAN
METHOD:PUBLISH
X-ORIGINAL-URL:https://liveinthedepths.com
X-WR-CALDESC:Events for LIVE IN THE {{DEPTHS}} - Portland
REFRESH-INTERVAL;VALUE=DURATION:PT1H
X-Robots-Tag:noindex
X-PUBLISHED-TTL:PT1H
BEGIN:VTIMEZONE
TZID:UTC
BEGIN:STANDARD
TZOFFSETFROM:+0000
TZOFFSETTO:+0000
TZNAME:UTC
DTSTART:20180101T000000
END:STANDARD
END:VTIMEZONE
BEGIN:VEVENT
DTSTART;TZID=UTC:20191107T190000
DTEND;TZID=UTC:20191107T230000
DTSTAMP:20260424T161027
CREATED:20250907T205552Z
LAST-MODIFIED:20250907T210927Z
UID:21879-1573153200-1573167600@liveinthedepths.com
SUMMARY:Live in the Depths 39
DESCRIPTION:Live in the Depths 39\nLive in the Depths is an evening of live experimental music showcases with visual immersion. Always first Thursday.\nThis month… \nAcreaturas\nhttps://acreaturas.bandcamp.com/ \nEaton Flowers\nhttps://sdmpdx.bandcamp.com/ \nSkynia\nhttps://www.youtube.com/watch?v=fUdtnGLA1ac \nSeñor Frio (dj host)\nMORE INFO TBA\nVisuals : Reed\nSpaz.org\n$5/+21/Doors @ 8pm & show over before midnight.\nNo one turned away for lack of funds and respect your fellow humans.
URL:https://liveinthedepths.com/event/live-in-the-depths-39/
LOCATION:The Mississippi Pizza Pub & Atlantis Lounge\, 3552 North Mississippi Avenue\, Portland\, OR\, 97227\, United States
CATEGORIES:Show
ATTACH;FMTTYPE=image/jpeg:https://liveinthedepths.com/wp-content/uploads/2025/09/75246657_1123056327888203_8794371015200210944_n.jpg
END:VEVENT
END:VCALENDAR