BEGIN:VCALENDAR
VERSION:2.0
PRODID:-//LIVE IN THE {{DEPTHS}} - Portland - ECPv6.15.20//NONSGML v1.0//EN
CALSCALE:GREGORIAN
METHOD:PUBLISH
X-WR-CALNAME:LIVE IN THE {{DEPTHS}} - Portland
X-ORIGINAL-URL:https://liveinthedepths.com
X-WR-CALDESC:Events for LIVE IN THE {{DEPTHS}} - Portland
REFRESH-INTERVAL;VALUE=DURATION:PT1H
X-Robots-Tag:noindex
X-PUBLISHED-TTL:PT1H
BEGIN:VTIMEZONE
TZID:UTC
BEGIN:STANDARD
TZOFFSETFROM:+0000
TZOFFSETTO:+0000
TZNAME:UTC
DTSTART:20180101T000000
END:STANDARD
END:VTIMEZONE
BEGIN:VEVENT
DTSTART;TZID=UTC:20191003T190000
DTEND;TZID=UTC:20191003T230000
DTSTAMP:20260424T175708
CREATED:20250907T203229Z
LAST-MODIFIED:20250907T210215Z
UID:21876-1570129200-1570143600@liveinthedepths.com
SUMMARY:Live in the Depths 38
DESCRIPTION:Live in the Depths is an evening of live experimental electronic music performances every 1st thursday. This month…. \nBeytah\nhttps://soundcloud.com/beytah \nProduction Unit Xero\nhttps://heterodox-records.bandcamp.com \nthe Eridian\nhttps://soundcloud.com/eridian23 \nBen Martens\nhttps://benmartens1.bandcamp.com/\nour dj host for the evening… \nAnna Phylaxis\nhttps://soundcloud.com/annaphylaxis\nVisuals by Reed \nSPAZ.ORG\nLive in the depths is always just $5 at the door but no one turned away for lack of funds.
URL:https://liveinthedepths.com/event/live-in-the-depths-38/
LOCATION:The Mississippi Pizza Pub & Atlantis Lounge\, 3552 North Mississippi Avenue\, Portland\, OR\, 97227\, United States
CATEGORIES:Show
ATTACH;FMTTYPE=image/jpeg:https://liveinthedepths.com/wp-content/uploads/2025/09/70506558_1098291697031333_867429114271760384_n.jpg
END:VEVENT
END:VCALENDAR