BEGIN:VCALENDAR
VERSION:2.0
PRODID:-//LIVE IN THE {{DEPTHS}} - Portland - ECPv6.15.20//NONSGML v1.0//EN
CALSCALE:GREGORIAN
METHOD:PUBLISH
X-ORIGINAL-URL:https://liveinthedepths.com
X-WR-CALDESC:Events for LIVE IN THE {{DEPTHS}} - Portland
REFRESH-INTERVAL;VALUE=DURATION:PT1H
X-Robots-Tag:noindex
X-PUBLISHED-TTL:PT1H
BEGIN:VTIMEZONE
TZID:UTC
BEGIN:STANDARD
TZOFFSETFROM:+0000
TZOFFSETTO:+0000
TZNAME:UTC
DTSTART:20180101T000000
END:STANDARD
END:VTIMEZONE
BEGIN:VEVENT
DTSTART;TZID=UTC:20190905T190000
DTEND;TZID=UTC:20190905T230000
DTSTAMP:20260424T195142
CREATED:20250907T203013Z
LAST-MODIFIED:20250907T210152Z
UID:21873-1567710000-1567724400@liveinthedepths.com
SUMMARY:Live in the Depths 37
DESCRIPTION:Live in the Depths is an evening of live experimental electronic music performances that happens every 1st Thursday @ Atlantis Lounge PDX.\n#37 has…\n404NF (Oakland)Intrusive Thought (Joel Shanahan/Breathing Problems)onslaught ocelotliilaDj host : Ashley GriffinVisuals : Reed\n$5/+21/Doors and music @8 ends before 12.\n***No one turned away for lack of funds***
URL:https://liveinthedepths.com/event/live-in-the-depths-37/
LOCATION:The Mississippi Pizza Pub & Atlantis Lounge\, 3552 North Mississippi Avenue\, Portland\, OR\, 97227\, United States
CATEGORIES:Show
ATTACH;FMTTYPE=image/jpeg:https://liveinthedepths.com/wp-content/uploads/2025/09/68932388_1076199795907190_2176391200263634944_n.jpg
END:VEVENT
END:VCALENDAR