BEGIN:VCALENDAR
VERSION:2.0
PRODID:-//LIVE IN THE {{DEPTHS}} - Portland - ECPv6.15.20//NONSGML v1.0//EN
CALSCALE:GREGORIAN
METHOD:PUBLISH
X-ORIGINAL-URL:https://liveinthedepths.com
X-WR-CALDESC:Events for LIVE IN THE {{DEPTHS}} - Portland
REFRESH-INTERVAL;VALUE=DURATION:PT1H
X-Robots-Tag:noindex
X-PUBLISHED-TTL:PT1H
BEGIN:VTIMEZONE
TZID:UTC
BEGIN:STANDARD
TZOFFSETFROM:+0000
TZOFFSETTO:+0000
TZNAME:UTC
DTSTART:20180101T000000
END:STANDARD
END:VTIMEZONE
BEGIN:VEVENT
DTSTART;TZID=UTC:20190801T190000
DTEND;TZID=UTC:20190801T230000
DTSTAMP:20260424T213730
CREATED:20250907T202844Z
LAST-MODIFIED:20250907T210709Z
UID:21870-1564686000-1564700400@liveinthedepths.com
SUMMARY:Live in the Depths 36
DESCRIPTION:Live in the Depths is an evening of live experimental electronic music performances every first Thursday!! This month we have…\nSciFiSol\nSolid State (Seattle)\nABSV\nSoup Purse\n& dj host\nMeta.Phunk\nVisuals by Reed\n///////////////////////////\nSciFISol\nThe driving electronica of SciFiSol\, awash in psychedelic rhythm and texture\, lusters with an unforgettably strange and exotic brilliance. Born of gritty metallic machines in search of telepathic connection\, her sound reaches through the chaos of static to grasp a utopian dream within our midst. Truly a chameleon of electronica\, her releases as well as her live performances express a broad range of styles including darkwave\, experimental\, leftfield IDM\, and techno. Her work has been described by Dave Segal of The Stranger as a “distinctively enchanted sound that explores some deeply eerie\, psychedelic realms.” Listen to her most recent release\, a dancefloor inspired EP entitled Experimental Drawingboard out now on Detroit Underground Records.\nhttp://www.scifisol.net/\n///////////////////////////////////\nSolid State (Seattle)\nSolid State (formerly known as Amphetamine Virus) is the Cyberpunk/ Crossbreed/ Hard Electronic project of MDS. MDS played in several industrial bands before going out on his own to pursue making his hectic kind of dance music rooted in Drum N Bass\, Metal\, Industrial\, Hardcore\, and Hip Hop.\nSolidstate1.bandcamp.com\n/////////////////////////////////////\nABSV\nhttps://absv.bandcamp.com/\n////////////////////////////////////\nSoup Purse\nAka Grease Envelope\nMaybe he preferred that??\nYou all know who Todd is.\n/////////////////////////////////////\nMeta.Phunk\nDonald is our DJ host for the night. He usually spins house and techno but sounds like he is gonna go a little left field on these tracks. Come check him out.\nWww.Facebook.com/metaphunk\nWww.mixcloud.com/metaphunk\n/////////////////////////////////////\nAlways $5 but no one turned away at the door. +21 & doors at 8pm.\nAlways 1st Thursday’s.
URL:https://liveinthedepths.com/event/live-in-the-depths-36/
LOCATION:The Mississippi Pizza Pub & Atlantis Lounge\, 3552 North Mississippi Avenue\, Portland\, OR\, 97227\, United States
CATEGORIES:Show
ATTACH;FMTTYPE=image/jpeg:https://liveinthedepths.com/wp-content/uploads/2025/09/67632922_1062268933966943_3196245581429211136_n.jpg
END:VEVENT
END:VCALENDAR