BEGIN:VCALENDAR
VERSION:2.0
PRODID:-//LIVE IN THE {{DEPTHS}} - Portland - ECPv6.15.20//NONSGML v1.0//EN
CALSCALE:GREGORIAN
METHOD:PUBLISH
X-WR-CALNAME:LIVE IN THE {{DEPTHS}} - Portland
X-ORIGINAL-URL:https://liveinthedepths.com
X-WR-CALDESC:Events for LIVE IN THE {{DEPTHS}} - Portland
REFRESH-INTERVAL;VALUE=DURATION:PT1H
X-Robots-Tag:noindex
X-PUBLISHED-TTL:PT1H
BEGIN:VTIMEZONE
TZID:UTC
BEGIN:STANDARD
TZOFFSETFROM:+0000
TZOFFSETTO:+0000
TZNAME:UTC
DTSTART:20180101T000000
END:STANDARD
END:VTIMEZONE
BEGIN:VEVENT
DTSTART;TZID=UTC:20190502T190000
DTEND;TZID=UTC:20190502T230000
DTSTAMP:20260425T025257
CREATED:20250907T202220Z
LAST-MODIFIED:20250907T210638Z
UID:21864-1556823600-1556838000@liveinthedepths.com
SUMMARY:Live in the Depths 34
DESCRIPTION:Live in the Depths is an evening of live electronic experimental music performances. LitD happens every first Thursday.\nOptimal Decay\nHoist1138\nProduction Unit Xero\nGodDamnSamCore (debut)\ndj host E.T.\n$5/+21/Doors @ 8pm
URL:https://liveinthedepths.com/event/live-in-the-depths-34/
LOCATION:The Mississippi Pizza Pub & Atlantis Lounge\, 3552 North Mississippi Avenue\, Portland\, OR\, 97227\, United States
CATEGORIES:Show
ATTACH;FMTTYPE=image/png:https://liveinthedepths.com/wp-content/uploads/2025/09/57652766_994160504111120_1521170935413997568_n.png
END:VEVENT
END:VCALENDAR