BEGIN:VCALENDAR
VERSION:2.0
PRODID:-//LIVE IN THE {{DEPTHS}} - Portland - ECPv6.15.20//NONSGML v1.0//EN
CALSCALE:GREGORIAN
METHOD:PUBLISH
X-WR-CALNAME:LIVE IN THE {{DEPTHS}} - Portland
X-ORIGINAL-URL:https://liveinthedepths.com
X-WR-CALDESC:Events for LIVE IN THE {{DEPTHS}} - Portland
REFRESH-INTERVAL;VALUE=DURATION:PT1H
X-Robots-Tag:noindex
X-PUBLISHED-TTL:PT1H
BEGIN:VTIMEZONE
TZID:UTC
BEGIN:STANDARD
TZOFFSETFROM:+0000
TZOFFSETTO:+0000
TZNAME:UTC
DTSTART:20170101T000000
END:STANDARD
END:VTIMEZONE
BEGIN:VEVENT
DTSTART;TZID=UTC:20181206T190000
DTEND;TZID=UTC:20181206T230000
DTSTAMP:20260425T114704
CREATED:20250907T201123Z
LAST-MODIFIED:20250907T210455Z
UID:21849-1544122800-1544137200@liveinthedepths.com
SUMMARY:Live in the Depths 29
DESCRIPTION:Live in the Depths is an evening of experimental live music performances. It takes place every first Thursday. This month we have live performances from…. DeLyria \, Crab Shack Stereo \, jesiah \, ahpook \, & æthic !\nDeLyria (live acid techno)\nCrab Shack Stereo (live mind-meld)\njesiah (live hardware debut)\næthic (live builder of experiences)\nahpook (live in the depths debut)\n+21/$5
URL:https://liveinthedepths.com/event/live-in-the-depths-29/
LOCATION:The Mississippi Pizza Pub & Atlantis Lounge\, 3552 North Mississippi Avenue\, Portland\, OR\, 97227\, United States
CATEGORIES:Show
ATTACH;FMTTYPE=image/jpeg:https://liveinthedepths.com/wp-content/uploads/2025/09/46059121_902521046608400_1424942480909926400_n.jpg
END:VEVENT
END:VCALENDAR