BEGIN:VCALENDAR
VERSION:2.0
PRODID:-//LIVE IN THE {{DEPTHS}} - Portland - ECPv6.15.20//NONSGML v1.0//EN
CALSCALE:GREGORIAN
METHOD:PUBLISH
X-ORIGINAL-URL:https://liveinthedepths.com
X-WR-CALDESC:Events for LIVE IN THE {{DEPTHS}} - Portland
REFRESH-INTERVAL;VALUE=DURATION:PT1H
X-Robots-Tag:noindex
X-PUBLISHED-TTL:PT1H
BEGIN:VTIMEZONE
TZID:UTC
BEGIN:STANDARD
TZOFFSETFROM:+0000
TZOFFSETTO:+0000
TZNAME:UTC
DTSTART:20170101T000000
END:STANDARD
END:VTIMEZONE
BEGIN:VEVENT
DTSTART;TZID=UTC:20181004T190000
DTEND;TZID=UTC:20181004T230000
DTSTAMP:20260425T152525
CREATED:20250907T200809Z
LAST-MODIFIED:20250907T210433Z
UID:21842-1538679600-1538694000@liveinthedepths.com
SUMMARY:Live in the Depths 27
DESCRIPTION:Live in the Depths is an evening of live experimental music performances. LitD happens every first Thursday.\nThis month features: \nPlague Ship\nFeedback\, drones\, and nautical despair.\nhttps://soundcloud.com/plague-ship \nThe Pew Pew Pews…\nVocal & synth-driven psychedelic electronic act featuring local psych-folk singer Natty Isabell \nRoadkill (Show and Smell Recordings\, SDM\, GOOO)\nIn the RED weird sounds with synthesizer\, theremin and vocals\nhttps://roadkill5.bandcamp.com/releases \n!mindparade (Tree Machine Records\, ATONUV)\ndown the rabbit hole of assorted experimental pop/neo-psych laced with other compositional tangents (members of Kulululu)\nhttps://mindparade.bandcamp.com/album/aleatoric-phase \nwith DJ Drop A Cat ON The Equipment AND live interactive visuals by spün\n$5/+21
URL:https://liveinthedepths.com/event/live-in-the-depths-27/
LOCATION:The Mississippi Pizza Pub & Atlantis Lounge\, 3552 North Mississippi Avenue\, Portland\, OR\, 97227\, United States
CATEGORIES:Show
ATTACH;FMTTYPE=image/jpeg:https://liveinthedepths.com/wp-content/uploads/2025/09/42058806_873012086225963_1189023706911866880_n.jpg
END:VEVENT
END:VCALENDAR