BEGIN:VCALENDAR
VERSION:2.0
PRODID:-//LIVE IN THE {{DEPTHS}} - Portland - ECPv6.15.20//NONSGML v1.0//EN
CALSCALE:GREGORIAN
METHOD:PUBLISH
X-WR-CALNAME:LIVE IN THE {{DEPTHS}} - Portland
X-ORIGINAL-URL:https://liveinthedepths.com
X-WR-CALDESC:Events for LIVE IN THE {{DEPTHS}} - Portland
REFRESH-INTERVAL;VALUE=DURATION:PT1H
X-Robots-Tag:noindex
X-PUBLISHED-TTL:PT1H
BEGIN:VTIMEZONE
TZID:UTC
BEGIN:STANDARD
TZOFFSETFROM:+0000
TZOFFSETTO:+0000
TZNAME:UTC
DTSTART:20170101T000000
END:STANDARD
END:VTIMEZONE
BEGIN:VEVENT
DTSTART;TZID=UTC:20180301T190000
DTEND;TZID=UTC:20180301T230000
DTSTAMP:20260426T034723
CREATED:20250907T191108Z
LAST-MODIFIED:20250907T191108Z
UID:21820-1519930800-1519945200@liveinthedepths.com
SUMMARY:Live in the Depths 20
DESCRIPTION:Live in the Depths is an evening of LIVE experimental electronic music performances with a DJ added to keep us moving. Live in the Depths happens every first Thursday.\nThe live acts this month…\nSunFallshttps://sunfalls.bandcamp.com/\nProduction Unit Xerohttps://soundcloud.com/pux\nDr Strangeknobhttps://soundcloud.com/dr-strangeknob\nAlanihttps://soundcloud.com/alani-vierra\nDj host…\nProqxis (one wub/melt)https://mixcloud.com/resonantlocus
URL:https://liveinthedepths.com/event/live-in-the-depths-20/
LOCATION:The Mississippi Pizza Pub & Atlantis Lounge\, 3552 North Mississippi Avenue\, Portland\, OR\, 97227\, United States
CATEGORIES:Show
ATTACH;FMTTYPE=image/jpeg:https://liveinthedepths.com/wp-content/uploads/2025/09/503439893_2680705695456584_7376635384189159611_n.jpg
END:VEVENT
END:VCALENDAR