BEGIN:VCALENDAR
VERSION:2.0
PRODID:-//LIVE IN THE {{DEPTHS}} - Portland - ECPv6.15.20//NONSGML v1.0//EN
CALSCALE:GREGORIAN
METHOD:PUBLISH
X-ORIGINAL-URL:https://liveinthedepths.com
X-WR-CALDESC:Events for LIVE IN THE {{DEPTHS}} - Portland
REFRESH-INTERVAL;VALUE=DURATION:PT1H
X-Robots-Tag:noindex
X-PUBLISHED-TTL:PT1H
BEGIN:VTIMEZONE
TZID:UTC
BEGIN:STANDARD
TZOFFSETFROM:+0000
TZOFFSETTO:+0000
TZNAME:UTC
DTSTART:20230101T000000
END:STANDARD
END:VTIMEZONE
BEGIN:VEVENT
DTSTART;TZID=UTC:20240307T190000
DTEND;TZID=UTC:20240307T230000
DTSTAMP:20260421T010329
CREATED:20241205T072501Z
LAST-MODIFIED:20250705T042152Z
UID:21525-1709838000-1709852400@liveinthedepths.com
SUMMARY:Live in the Depths 72
DESCRIPTION:Live in the Depths 72.\nLive in the Depths is an evening of live electronic music showcases.. always on 1st Thursdays of the month!!\nThis month…\nEZBOTBlaixBrother vs Robot (also on visual duties)Som ShankarArgonaute (dj)\nGangster Computer God on sound
URL:https://liveinthedepths.com/event/live-in-the-depths-72/
LOCATION:The Mississippi Pizza Pub & Atlantis Lounge\, 3552 North Mississippi Avenue\, Portland\, OR\, 97227\, United States
CATEGORIES:Show
ATTACH;FMTTYPE=image/jpeg:https://liveinthedepths.com/wp-content/uploads/2024/12/litd72.jpg
END:VEVENT
BEGIN:VEVENT
DTSTART;TZID=UTC:20240404T190000
DTEND;TZID=UTC:20240404T230000
DTSTAMP:20260421T010329
CREATED:20241031T043509Z
LAST-MODIFIED:20241031T043509Z
UID:21475-1712257200-1712271600@liveinthedepths.com
SUMMARY:Live in the Depths 73
DESCRIPTION:Live in the Depths 73. \nBadrich\nAK-B\nDromia\nElectro-Skronk Classics\npantiestheclown (dj)\nMatthew Rempes (visuals)\nGangsterComputerGod (sound) \n$5-10 suggested NOTAFLOF\nspaz.org
URL:https://liveinthedepths.com/event/live-in-the-depths-73/
LOCATION:The Mississippi Pizza Pub & Atlantis Lounge\, 3552 North Mississippi Avenue\, Portland\, OR\, 97227\, United States
CATEGORIES:Show
ATTACH;FMTTYPE=image/jpeg:https://liveinthedepths.com/wp-content/uploads/2024/09/439273570_3787657528226848_668475993623770930_n-1.jpg
END:VEVENT
BEGIN:VEVENT
DTSTART;TZID=UTC:20240502T190000
DTEND;TZID=UTC:20240502T230000
DTSTAMP:20260421T010329
CREATED:20240909T043751Z
LAST-MODIFIED:20240909T044405Z
UID:21419-1714676400-1714690800@liveinthedepths.com
SUMMARY:Live in the Depths 74
DESCRIPTION:Lineup:\nVygarJames StaubSTREET LIGHTNING (new duo)Uri Thrall w/ Musique Mystiquehedley bizarreDJ Tropical Goth\nvisuals by Matthew Rempes
URL:https://liveinthedepths.com/event/live-in-the-depths-74/
LOCATION:The Mississippi Pizza Pub & Atlantis Lounge\, 3552 North Mississippi Avenue\, Portland\, OR\, 97227\, United States
CATEGORIES:Show
ATTACH;FMTTYPE=image/jpeg:https://liveinthedepths.com/wp-content/uploads/2024/09/439273570_3787657528226848_668475993623770930_n-1.jpg
END:VEVENT
BEGIN:VEVENT
DTSTART;TZID=UTC:20240606T190000
DTEND;TZID=UTC:20240606T230000
DTSTAMP:20260421T010329
CREATED:20240909T044321Z
LAST-MODIFIED:20240909T044321Z
UID:21424-1717700400-1717714800@liveinthedepths.com
SUMMARY:Live in the Depths 75
DESCRIPTION:Lineup:\nLive in the Depths 75Every first Thursday!\nLineup..\n\nSpines\nAhpook\nNundale\nThe Red Water\nproqxis (dj)\npsycloptoad (visuals)\ngangster computer dog (sound)
URL:https://liveinthedepths.com/event/live-in-the-depths-75/
LOCATION:The Mississippi Pizza Pub & Atlantis Lounge\, 3552 North Mississippi Avenue\, Portland\, OR\, 97227\, United States
CATEGORIES:Show
ATTACH;FMTTYPE=image/jpeg:https://liveinthedepths.com/wp-content/uploads/2024/09/447029438_3813537022305565_3704882236019999573_n-1.jpg
END:VEVENT
BEGIN:VEVENT
DTSTART;TZID=UTC:20240801T190000
DTEND;TZID=UTC:20240801T230000
DTSTAMP:20260421T010329
CREATED:20240816T060109Z
LAST-MODIFIED:20240816T060354Z
UID:21386-1722538800-1722553200@liveinthedepths.com
SUMMARY:Live in the Depths 77
DESCRIPTION:Lineup:\nLive in the Depths presents a Modbang showcase w/\nMikey 303 (Seattle) dnb\nSURCO (Denver) live technos\nProduction Unit Xero\nEnzo Caselnova\npenpointred (dj support)\nMatthew Rempes (visuals)\nsound by gangstercomputergod\nBUY TICKETS\nThis long running monthly series produced and hosted by Doug Dailey features experimental electronic/dark IDM. \nThe showcase has a different lineup of local artists every month. \nPlease pay at the door. \n• all events are 21+ unless otherwise noted. \n• no refunds except for cancellations. \n• lineups are subject to change. \n\nLive in the Depths 77 Interview w/ Production Unit Xero\n\n\n\n\n \n  \n\nLive in the Depths Interview w/ mikey303\n \n  \n\nLive in the Depths Interview w/ Enzo Caselnova\n\n\n\n\n \n\nLive in the Depths Interview w/ SURCO
URL:https://liveinthedepths.com/event/live-in-the-depths-77/
LOCATION:The Mississippi Pizza Pub & Atlantis Lounge\, 3552 North Mississippi Avenue\, Portland\, OR\, 97227\, United States
CATEGORIES:Show
ATTACH;FMTTYPE=image/jpeg:https://liveinthedepths.com/wp-content/uploads/2024/08/453430816_3860865574239376_5506084543389056254_n.jpg
END:VEVENT
BEGIN:VEVENT
DTSTART;TZID=UTC:20240905T190000
DTEND;TZID=UTC:20240905T230000
DTSTAMP:20260421T010329
CREATED:20200504T180421Z
LAST-MODIFIED:20240815T185329Z
UID:1737-1725562800-1725577200@liveinthedepths.com
SUMMARY:Live in the Depths 78
DESCRIPTION:Lineup:\nGolden Donna Plays Last Night on EarthØbsrvrWet MangoWMX\nDJ: Vortex CollectiveVisuals: prjxnsSound: gangstercomputergod\nBUY TICKETS\nThis long running monthly series produced and hosted by Doug Dailey features experimental electronic/dark IDM. \nThe showcase has a different lineup of local artists every month. \nPlease pay at the door. \n• all events are 21+ unless otherwise noted. \n• no refunds except for cancellations. \n• lineups are subject to change.
URL:https://liveinthedepths.com/event/live-in-the-depths-78/
LOCATION:The Mississippi Pizza Pub & Atlantis Lounge\, 3552 North Mississippi Avenue\, Portland\, OR\, 97227\, United States
CATEGORIES:Show
ATTACH;FMTTYPE=image/jpeg:https://liveinthedepths.com/wp-content/uploads/2024/08/IMG_0248.jpg.jpeg
END:VEVENT
BEGIN:VEVENT
DTSTART;TZID=UTC:20241003T190000
DTEND;TZID=UTC:20241003T230000
DTSTAMP:20260421T010329
CREATED:20240810T234352Z
LAST-MODIFIED:20240924T044858Z
UID:21248-1727982000-1727996400@liveinthedepths.com
SUMMARY:Live in the Depths 79
DESCRIPTION:This long running monthly series produced and hosted by Dhug features experimental electronic/dark IDM. \nThe showcase has a different lineup of local artists every month. \nPlease pay at the door. \n• all events are 21+ unless otherwise noted. \n• no refunds except for cancellations. \n• lineups are subject to change.
URL:https://liveinthedepths.com/event/live-in-the-depths-79/
LOCATION:The Mississippi Pizza Pub & Atlantis Lounge\, 3552 North Mississippi Avenue\, Portland\, OR\, 97227\, United States
CATEGORIES:Show
ATTACH;FMTTYPE=image/jpeg:https://liveinthedepths.com/wp-content/uploads/2024/08/Untitled-115.jpeg
END:VEVENT
BEGIN:VEVENT
DTSTART;TZID=UTC:20241107T190000
DTEND;TZID=UTC:20241107T230000
DTSTAMP:20260421T010329
CREATED:20240810T234427Z
LAST-MODIFIED:20241031T000027Z
UID:21250-1731006000-1731020400@liveinthedepths.com
SUMMARY:Live in the Depths 80
DESCRIPTION:Live in the Depths is an evening of live electronic music showcases.. always on 1st Thursdays of the month!!\n  \nThis month we have lots of LIVE techno!! your lineup!!… \nMædon \nAmerican Window Cleaner \nYronic \nCarlos Baca (dj) \nsound by GangsterComputerGod \n 
URL:https://liveinthedepths.com/event/live-in-the-depths-80/
LOCATION:The Mississippi Pizza Pub & Atlantis Lounge\, 3552 North Mississippi Avenue\, Portland\, OR\, 97227\, United States
CATEGORIES:Show
ATTACH;FMTTYPE=image/jpeg:https://liveinthedepths.com/wp-content/uploads/2024/08/Image-12-scaled.jpeg
END:VEVENT
BEGIN:VEVENT
DTSTART;TZID=UTC:20241205T190000
DTEND;TZID=UTC:20241205T230000
DTSTAMP:20260421T010329
CREATED:20240810T234514Z
LAST-MODIFIED:20241130T215652Z
UID:21252-1733425200-1733439600@liveinthedepths.com
SUMMARY:Live in the Depths 81
DESCRIPTION:  \nLive in the Depths is an evening of live experimental electronic music showcases. LitD happens every first Thursday! This month…\nBen Martens (mutated hip-hop)FITNEZ (mid tempo slappers from Austin\, TX)hoist1138 (idm goodness)Casual Decay (mutated ambient)saltfeend (dj / J Saul Kane tribute set)\nsound by gangstercomputergodspaz.org\n\nThis long running monthly series produced and hosted by Doug Dailey features experimental electronic/dark IDM. \nThe showcase has a different lineup of local artists every month. \nPlease pay at the door. \n• all events are 21+ unless otherwise noted. \n• no refunds except for cancellations. \n• lineups are subject to change.
URL:https://liveinthedepths.com/event/live-in-the-depths-81/
LOCATION:The Mississippi Pizza Pub & Atlantis Lounge\, 3552 North Mississippi Avenue\, Portland\, OR\, 97227\, United States
CATEGORIES:Show
ATTACH;FMTTYPE=image/jpeg:https://liveinthedepths.com/wp-content/uploads/2024/11/LITDDEC24.jpg
END:VEVENT
BEGIN:VEVENT
DTSTART;TZID=UTC:20250102T190000
DTEND;TZID=UTC:20250102T230000
DTSTAMP:20260421T010329
CREATED:20241227T062617Z
LAST-MODIFIED:20241227T062617Z
UID:21534-1735844400-1735858800@liveinthedepths.com
SUMMARY:Live in the Depths 82
DESCRIPTION:This long running monthly series produced and hosted by Doug Dailey features experimental electronic/dark IDM. \nThe showcase has a different lineup of local artists every month. \nPlease pay at the door. \n• all events are 21+ unless otherwise noted. \n• no refunds except for cancellations. \n• lineups are subject to change.
URL:https://liveinthedepths.com/event/live-in-the-depths-82/
LOCATION:The Mississippi Pizza Pub & Atlantis Lounge\, 3552 North Mississippi Avenue\, Portland\, OR\, 97227\, United States
CATEGORIES:Show
ATTACH;FMTTYPE=image/jpeg:https://liveinthedepths.com/wp-content/uploads/2024/12/litd82-scaled.jpg
END:VEVENT
BEGIN:VEVENT
DTSTART;TZID=UTC:20250206T190000
DTEND;TZID=UTC:20250206T230000
DTSTAMP:20260421T010329
CREATED:20250131T010346Z
LAST-MODIFIED:20250131T010346Z
UID:21554-1738868400-1738882800@liveinthedepths.com
SUMMARY:Live in the Depths 83
DESCRIPTION:Live in the Depths is an evening of live experimental electronic music showcases. Live in the Depths happens every 1st Thursday at Atlantis Lounge in PDX. Lineup….\nSolenoid (Community Library)NNDL (Errorgrid)Axon ChamberBadrichthe Student [dj] (3RDKLTR)VJ Penpoint\nsound by gangstercomputergod\n$10 suggested 21+\n\nThis long running monthly series produced and hosted by Doug Dailey features experimental electronic/dark IDM. \nThe showcase has a different lineup of local artists every month. \nPlease pay at the door. \n• all events are 21+ unless otherwise noted. \n• no refunds except for cancellations. \n• lineups are subject to change.
URL:https://liveinthedepths.com/event/live-in-the-depths-83/
LOCATION:The Mississippi Pizza Pub & Atlantis Lounge\, 3552 North Mississippi Avenue\, Portland\, OR\, 97227\, United States
CATEGORIES:Show
ATTACH;FMTTYPE=image/jpeg:https://liveinthedepths.com/wp-content/uploads/2025/01/IMG_1958.JPG-scaled.jpeg
END:VEVENT
BEGIN:VEVENT
DTSTART;TZID=UTC:20250306T190000
DTEND;TZID=UTC:20250306T230000
DTSTAMP:20260421T010329
CREATED:20250222T030655Z
LAST-MODIFIED:20250222T031446Z
UID:21564-1741287600-1741302000@liveinthedepths.com
SUMMARY:Live in the Depths 84
DESCRIPTION:Live in the Depths is an evening of live experimental electronic music performances that happen every first Thursday. This month…\nScreechers (EUG)The Red WaterProqxis (live A/V w/ Arson Rivvers)MK Ultra\nArson Rivvers (visuals)gangstercomputergod (sound)\n$10 / 21+ / NOTAFLOF\nspaz.org\n\n\nThis long running monthly series produced and hosted by Doug Dailey features experimental electronic/dark IDM. \nThe showcase has a different lineup of local artists every month. \nPlease pay at the door. \n• all events are 21+ unless otherwise noted. \n• no refunds except for cancellations. \n• lineups are subject to change.
URL:https://liveinthedepths.com/event/live-in-the-depths-84/
LOCATION:The Mississippi Pizza Pub & Atlantis Lounge\, 3552 North Mississippi Avenue\, Portland\, OR\, 97227\, United States
CATEGORIES:Show
ATTACH;FMTTYPE=image/jpeg:https://liveinthedepths.com/wp-content/uploads/2025/02/liitd84.jpg
END:VEVENT
BEGIN:VEVENT
DTSTART;TZID=UTC:20250403T190000
DTEND;TZID=UTC:20250403T230000
DTSTAMP:20260421T010329
CREATED:20250320T194205Z
LAST-MODIFIED:20250320T202451Z
UID:21622-1743706800-1743721200@liveinthedepths.com
SUMMARY:Live in the Depths 85
DESCRIPTION:Live in the Depths is an evening of live experimental electronic music performances that happen every first Thursday.\n\n\nThis long running monthly series produced and hosted by Doug Dailey features experimental electronic/dark IDM. \nThe showcase has a different lineup of local artists every month. \nPlease pay at the door. \n• all events are 21+ unless otherwise noted. \n• no refunds except for cancellations. \n• lineups are subject to change.
URL:https://liveinthedepths.com/event/live-in-the-depths-85/
LOCATION:The Mississippi Pizza Pub & Atlantis Lounge\, 3552 North Mississippi Avenue\, Portland\, OR\, 97227\, United States
CATEGORIES:Show
ATTACH;FMTTYPE=image/png:https://liveinthedepths.com/wp-content/uploads/2025/03/liitd85.png
END:VEVENT
BEGIN:VEVENT
DTSTART;TZID=UTC:20250501T190000
DTEND;TZID=UTC:20250501T230000
DTSTAMP:20260421T010329
CREATED:20250415T033504Z
LAST-MODIFIED:20250415T033703Z
UID:21639-1746126000-1746140400@liveinthedepths.com
SUMMARY:Live in the Depths 86
DESCRIPTION:Live in the Depths is an evening of live experimental electronic music performances. It happens every 1st Thursday.\nlineup…\nheartworm (5lowershop / Reactionary / SF)\nBrian Oblivion (Clandestine Audio / Monster Planet / SYNPROV CORP.)\noccurian (heterodox)\ndj host : Onslaught Ocelot (3RDKLTR / 5lowershop)\nvisuals by : Disco Voltron (Sunrise Social Club)\nsound by : gangstercomputergod\nMORE TBA\n$10 / 21+ / NOTAFLOF\nspaz.org
URL:https://liveinthedepths.com/event/live-in-the-depths-86/
LOCATION:The Mississippi Pizza Pub & Atlantis Lounge\, 3552 North Mississippi Avenue\, Portland\, OR\, 97227\, United States
CATEGORIES:Show
ATTACH;FMTTYPE=image/jpeg:https://liveinthedepths.com/wp-content/uploads/2025/04/489833607_4098936087098989_7981155637803142611_n.jpg
END:VEVENT
BEGIN:VEVENT
DTSTART;TZID=UTC:20250605T190000
DTEND;TZID=UTC:20250605T230000
DTSTAMP:20260421T010329
CREATED:20250419T021325Z
LAST-MODIFIED:20250906T193230Z
UID:21661-1749150000-1749164400@liveinthedepths.com
SUMMARY:Live in the Depths 87
DESCRIPTION:Live in the Depths is an evening of live experimental electronic music showcases. LitD happens every 1st Thursday in PDX! #87 is…\nØbsrvr (Tarantella)SpinesEƎ (Unseen Force)AkemieChepito (dj)Figment & Pineal Perceptions (visuals)\nSound by gangstercomputergod
URL:https://liveinthedepths.com/event/live-in-the-depths-87/
LOCATION:OR
CATEGORIES:Show
ATTACH;FMTTYPE=image/jpeg:https://liveinthedepths.com/wp-content/uploads/2025/05/500326925_4139697026356228_6865615362673459490_n-1.jpg
END:VEVENT
BEGIN:VEVENT
DTSTART;TZID=UTC:20250703T190000
DTEND;TZID=UTC:20250703T230000
DTSTAMP:20260421T010329
CREATED:20250624T021153Z
LAST-MODIFIED:20250906T193403Z
UID:21692-1751569200-1751583600@liveinthedepths.com
SUMMARY:Live in the Depths 88
DESCRIPTION:Live in the Depths welcomes back our mutants from AMF.. we are here for your decompression! have some hot pizza and cold drinks….. the music…\nDrozasJames StaubHex WolvesMK Ultra\ndj ?\nVisuals by Casual Decay\nSound by GangsterComputerGod
URL:https://liveinthedepths.com/event/live-in-the-depths-88/
LOCATION:OR
CATEGORIES:Show
ATTACH;FMTTYPE=image/jpeg:https://liveinthedepths.com/wp-content/uploads/2025/06/505728651_4169310180061579_7873311432537452023_n.jpg
END:VEVENT
BEGIN:VEVENT
DTSTART;TZID=UTC:20250807T190000
DTEND;TZID=UTC:20250807T230000
DTSTAMP:20260421T010329
CREATED:20250814T232814Z
LAST-MODIFIED:20250906T193454Z
UID:21780-1754593200-1754607600@liveinthedepths.com
SUMMARY:Live in the Depths 89
DESCRIPTION:Live in the Depths 89….\nWet MangoProduction Unit Xero (Heterodox)XXU & UXX (Katabatik / SF)Environmental Studies (LA)penpointred (dj & vj / reactionary records)
URL:https://liveinthedepths.com/event/live-in-the-depths-89/
LOCATION:OR
CATEGORIES:Show
ATTACH;FMTTYPE=image/jpeg:https://liveinthedepths.com/wp-content/uploads/2025/08/527540308_1048886497441152_2829589758389826164_n.jpg
END:VEVENT
END:VCALENDAR